BEGIN:VCALENDAR
VERSION:2.0
PRODID:-//NIU GALLERY - ECPv6.15.20//NONSGML v1.0//EN
CALSCALE:GREGORIAN
METHOD:PUBLISH
X-WR-CALNAME:NIU GALLERY
X-ORIGINAL-URL:https://niugallery.com
X-WR-CALDESC:Events for NIU GALLERY
REFRESH-INTERVAL;VALUE=DURATION:PT1H
X-Robots-Tag:noindex
X-PUBLISHED-TTL:PT1H
BEGIN:VTIMEZONE
TZID:America/Costa_Rica
BEGIN:STANDARD
TZOFFSETFROM:-0600
TZOFFSETTO:-0600
TZNAME:CST
DTSTART:20250101T000000
END:STANDARD
END:VTIMEZONE
BEGIN:VEVENT
DTSTART;TZID=America/Costa_Rica:20260705T100000
DTEND;TZID=America/Costa_Rica:20260705T110000
DTSTAMP:20260419T101641
CREATED:20251219T013900Z
LAST-MODIFIED:20251219T015400Z
UID:19710-1783245600-1783249200@niugallery.com
SUMMARY:Charla: El Valor de La Filantropía
DESCRIPTION:Charla enfocada a la comprensión de la Filantropía en Guanacaste.
URL:https://niugallery.com/event/charla-el-valor-de-la-filantropia/
LOCATION:Museo de Guanacaste\, Liberia\, Guanacaste\, 50101\, Costa Rica
CATEGORIES:Charla,Taller
END:VEVENT
END:VCALENDAR